BEGIN:VCALENDAR
VERSION:2.0
PRODID:spatie/icalendar-generator
DESCRIPTION:Events from Poseidon plávanie
X-WR-CALDESC:Events from Poseidon plávanie
REFRESH-INTERVAL;VALUE=DURATION:PT1440M
X-PUBLISHED-TTL:PT1440M
BEGIN:VTIMEZONE
TZID:Etc/GMT+0
BEGIN:STANDARD
DTSTART:20250802T194500Z
TZOFFSETFROM:+0000
TZOFFSETTO:+0000
END:STANDARD
END:VTIMEZONE
BEGIN:VTIMEZONE
TZID:UTC
BEGIN:STANDARD
DTSTART:20250729T164600Z
TZOFFSETFROM:+0000
TZOFFSETTO:+0000
END:STANDARD
END:VTIMEZONE
BEGIN:VEVENT
UID:3254-63
DTSTAMP:20260425T164600Z
SUMMARY:Aquaaerobik/Aquafitness
LOCATION:Penzión Doas Senec Slnečné jazerá 4317  Senec   903 01
ORGANIZER;CN=Radovan Klikáč:MAILTO:hello@intrasy.com
RRULE:FREQ=WEEKLY;UNTIL=20260630T000000Z
DTSTART;TZID=Etc/GMT+0:20260429T194500
DTEND;TZID=Etc/GMT+0:20260429T204500
X-ALT-DESC;FMTTYPE=TEXT/HTML:
CATEGORIES:Aquafitness,  Aquaerobik
URL;VALUE=URI:https://poseidonplavanie.sk/mc-events/aquaaerobik-aquafitness
 /?mc_id=3254
END:VEVENT
END:VCALENDAR