BEGIN:VCALENDAR
VERSION:2.0
PRODID:spatie/icalendar-generator
DESCRIPTION:Events from Poseidon plávanie
X-WR-CALDESC:Events from Poseidon plávanie
REFRESH-INTERVAL;VALUE=DURATION:PT1440M
X-PUBLISHED-TTL:PT1440M
BEGIN:VTIMEZONE
TZID:Etc/GMT+0
BEGIN:STANDARD
DTSTART:20250717T193000Z
TZOFFSETFROM:+0000
TZOFFSETTO:+0000
END:STANDARD
END:VTIMEZONE
BEGIN:VTIMEZONE
TZID:UTC
BEGIN:STANDARD
DTSTART:20250729T152222Z
TZOFFSETFROM:+0000
TZOFFSETTO:+0000
END:STANDARD
END:VTIMEZONE
BEGIN:VEVENT
UID:3164-58
DTSTAMP:20260425T152222Z
SUMMARY:Aquafitness
LOCATION:Penzión Doas Senec Slnečné jazerá 4317  Senec   903 01
ORGANIZER;CN=Radovan Klikáč:MAILTO:hello@intrasy.com
RRULE:FREQ=WEEKLY;UNTIL=20260630T000000Z
DTSTART;TZID=Etc/GMT+0:20260413T193000
DTEND;TZID=Etc/GMT+0:20260413T203000
X-ALT-DESC;FMTTYPE=TEXT/HTML:
CATEGORIES:Aquafitness
URL;VALUE=URI:https://poseidonplavanie.sk/mc-events/aquafitness/?mc_id=3164
END:VEVENT
END:VCALENDAR