BEGIN:VCALENDAR
VERSION:2.0
PRODID:spatie/icalendar-generator
DESCRIPTION:Events from Poseidon plávanie
X-WR-CALDESC:Events from Poseidon plávanie
REFRESH-INTERVAL;VALUE=DURATION:PT1440M
X-PUBLISHED-TTL:PT1440M
BEGIN:VTIMEZONE
TZID:Etc/GMT+0
BEGIN:STANDARD
DTSTART:20250718T180000Z
TZOFFSETFROM:+0000
TZOFFSETTO:+0000
END:STANDARD
END:VTIMEZONE
BEGIN:VTIMEZONE
TZID:UTC
BEGIN:STANDARD
DTSTART:20250729T152350Z
TZOFFSETFROM:+0000
TZOFFSETTO:+0000
END:STANDARD
END:VTIMEZONE
BEGIN:VEVENT
UID:2775-53
DTSTAMP:20260425T152350Z
SUMMARY:Plávanie dospelý
LOCATION:Plaváreň Slovnaft Vlčie hrdlo 5868  Bratislava  82107
ORGANIZER;CN=Radovan Klikáč:MAILTO:hello@intrasy.com
RRULE:FREQ=WEEKLY;UNTIL=20260630T000000Z
DTSTART;TZID=Etc/GMT+0:20260414T180000
DTEND;TZID=Etc/GMT+0:20260414T190000
X-ALT-DESC;FMTTYPE=TEXT/HTML:
CATEGORIES:Dospelý
URL;VALUE=URI:https://poseidonplavanie.sk/mc-events/plavanie-dospely-7/?mc_
 id=2775
END:VEVENT
END:VCALENDAR