BEGIN:VCALENDAR
VERSION:2.0
PRODID:spatie/icalendar-generator
DESCRIPTION:Events from Poseidon plávanie
X-WR-CALDESC:Events from Poseidon plávanie
REFRESH-INTERVAL;VALUE=DURATION:PT1440M
X-PUBLISHED-TTL:PT1440M
BEGIN:VTIMEZONE
TZID:Etc/GMT+0
BEGIN:STANDARD
DTSTART:20250720T070000Z
TZOFFSETFROM:+0000
TZOFFSETTO:+0000
END:STANDARD
END:VTIMEZONE
BEGIN:VTIMEZONE
TZID:UTC
BEGIN:STANDARD
DTSTART:20250729T152345Z
TZOFFSETFROM:+0000
TZOFFSETTO:+0000
END:STANDARD
END:VTIMEZONE
BEGIN:VEVENT
UID:2732-52
DTSTAMP:20260425T152345Z
SUMMARY:Plávanie dospelý
LOCATION:Plaváreň Majerníková Majerníková 62  Bratislava  84105
ORGANIZER;CN=Radovan Klikáč:MAILTO:hello@intrasy.com
RRULE:FREQ=WEEKLY;UNTIL=20260630T000000Z
DTSTART;TZID=Etc/GMT+0:20260416T070000
DTEND;TZID=Etc/GMT+0:20260416T080000
X-ALT-DESC;FMTTYPE=TEXT/HTML:
CATEGORIES:Dospelý
URL;VALUE=URI:https://poseidonplavanie.sk/mc-events/plavanie-dospely-6/?mc_
 id=2732
END:VEVENT
END:VCALENDAR