BEGIN:VCALENDAR
VERSION:2.0
PRODID:spatie/icalendar-generator
DESCRIPTION:Events from Poseidon plávanie
X-WR-CALDESC:Events from Poseidon plávanie
REFRESH-INTERVAL;VALUE=DURATION:PT1440M
X-PUBLISHED-TTL:PT1440M
BEGIN:VTIMEZONE
TZID:Etc/GMT+0
BEGIN:STANDARD
DTSTART:20241205T180000Z
TZOFFSETFROM:+0000
TZOFFSETTO:+0000
END:STANDARD
END:VTIMEZONE
BEGIN:VTIMEZONE
TZID:UTC
BEGIN:STANDARD
DTSTART:20250729T192746Z
TZOFFSETFROM:+0000
TZOFFSETTO:+0000
END:STANDARD
END:VTIMEZONE
BEGIN:VEVENT
UID:2527-47
DTSTAMP:20260425T192746Z
SUMMARY:Zdokonalovačka
LOCATION:Plaváreň Slovnaft Vlčie hrdlo 5868  Bratislava  82107
ORGANIZER;CN=Radovan Klikáč:MAILTO:hello@intrasy.com
RRULE:FREQ=WEEKLY;UNTIL=20260630T000000Z
DTSTART;TZID=Etc/GMT+0:20250901T180000
DTEND;TZID=Etc/GMT+0:20250901T190000
X-ALT-DESC;FMTTYPE=TEXT/HTML:
CATEGORIES:Zdokonalovačka
URL;VALUE=URI:https://poseidonplavanie.sk/mc-events/zdokonalovacka-7/?mc_id
 =2527
END:VEVENT
END:VCALENDAR