BEGIN:VCALENDAR
VERSION:2.0
PRODID:spatie/icalendar-generator
DESCRIPTION:Events from Poseidon plávanie
X-WR-CALDESC:Events from Poseidon plávanie
REFRESH-INTERVAL;VALUE=DURATION:PT1440M
X-PUBLISHED-TTL:PT1440M
BEGIN:VTIMEZONE
TZID:Etc/GMT+0
BEGIN:STANDARD
DTSTART:20241206T180000Z
TZOFFSETFROM:+0000
TZOFFSETTO:+0000
END:STANDARD
END:VTIMEZONE
BEGIN:VTIMEZONE
TZID:UTC
BEGIN:STANDARD
DTSTART:20250729T221035Z
TZOFFSETFROM:+0000
TZOFFSETTO:+0000
END:STANDARD
END:VTIMEZONE
BEGIN:VEVENT
UID:2441-45
DTSTAMP:20260425T221035Z
SUMMARY:Pokročilý
LOCATION:Plaváreň Slovnaft Vlčie hrdlo 5868  Bratislava  82107
ORGANIZER;CN=Radovan Klikáč:MAILTO:hello@intrasy.com
RRULE:FREQ=WEEKLY;UNTIL=20260630T000000Z
DTSTART;TZID=Etc/GMT+0:20250902T180000
DTEND;TZID=Etc/GMT+0:20250902T190000
X-ALT-DESC;FMTTYPE=TEXT/HTML:
CATEGORIES:Pokročilý
URL;VALUE=URI:https://poseidonplavanie.sk/mc-events/pokrocily-9/?mc_id=2441
END:VEVENT
END:VCALENDAR